BEGIN:VCALENDAR
VERSION:2.0
PRODID:-//PPP Training Online - ECPv6.15.14//NONSGML v1.0//EN
CALSCALE:GREGORIAN
METHOD:PUBLISH
X-ORIGINAL-URL:https://ppptrainingonline.com
X-WR-CALDESC:Events for PPP Training Online
REFRESH-INTERVAL;VALUE=DURATION:PT1H
X-Robots-Tag:noindex
X-PUBLISHED-TTL:PT1H
BEGIN:VTIMEZONE
TZID:Europe/Helsinki
BEGIN:DAYLIGHT
TZOFFSETFROM:+0200
TZOFFSETTO:+0300
TZNAME:EEST
DTSTART:20200329T010000
END:DAYLIGHT
BEGIN:STANDARD
TZOFFSETFROM:+0300
TZOFFSETTO:+0200
TZNAME:EET
DTSTART:20201025T010000
END:STANDARD
BEGIN:DAYLIGHT
TZOFFSETFROM:+0200
TZOFFSETTO:+0300
TZNAME:EEST
DTSTART:20210328T010000
END:DAYLIGHT
BEGIN:STANDARD
TZOFFSETFROM:+0300
TZOFFSETTO:+0200
TZNAME:EET
DTSTART:20211031T010000
END:STANDARD
BEGIN:DAYLIGHT
TZOFFSETFROM:+0200
TZOFFSETTO:+0300
TZNAME:EEST
DTSTART:20220327T010000
END:DAYLIGHT
BEGIN:STANDARD
TZOFFSETFROM:+0300
TZOFFSETTO:+0200
TZNAME:EET
DTSTART:20221030T010000
END:STANDARD
END:VTIMEZONE
BEGIN:VEVENT
DTSTART;TZID=Europe/Helsinki:20210608T090000
DTEND;TZID=Europe/Helsinki:20210609T150000
DTSTAMP:20260419T205256
CREATED:20210211T143625Z
LAST-MODIFIED:20210211T143625Z
UID:6358-1623142800-1623250800@ppptrainingonline.com
SUMMARY:CP3P Foundation Live Online Course 8-9 June 2021
DESCRIPTION:The CP3P Foundation course (level 1) is a blended learning course\, combining learning materials as well as an intensive two-day live online workshop. \nThe course can be taken from the comfort of your own home\, office or wherever you find yourself. This course will provide practitioners with a general overview of PPPs. It will also introduce some basic features and characteristics of PPPs. \nYou will be guided through the course work\, the live online classroom and some interactive quizzes\, whereafter you will get the chance to write the online certification exam. The whole system is seamlessly integrated to create the ultimate blended learning experience. \n  \nThe course consists of the following programme: \n\nFoundation Training – 2 days\nFoundation Online Exam – 50 minutes\n\n  \nServices included: \n\n\n\nCP3P Foundation Certificate\nInteractive live online course\nInternational Accreditation\nPPP Study Guide\nProfessional Trainer\n\n\n\n  \nAdd to cart
URL:https://ppptrainingonline.com/event/cp3p-foundation-live-online-course-8-9-june-2021/
CATEGORIES:Course Calendar
ATTACH;FMTTYPE=image/jpeg:https://ppptrainingonline.com/wp-content/uploads/2021/02/foundation01.jpg
ORGANIZER;CN="PPP Training Online":MAILTO:info@ppptrainingonline.com
END:VEVENT
BEGIN:VEVENT
DTSTART;TZID=Europe/Helsinki:20210518T090000
DTEND;TZID=Europe/Helsinki:20210521T150000
DTSTAMP:20260419T205256
CREATED:20210211T145858Z
LAST-MODIFIED:20210211T151003Z
UID:6374-1621328400-1621609200@ppptrainingonline.com
SUMMARY:CP3P Preparation Online Course 18-21 May 2021
DESCRIPTION:The CP3P Preparation Course (level 2) is a blended learning course\, combining learning materials as well as an intensive four-day live online workshop. The course will provide practitioners with an in-depth knowledge of the relevant aspects covered during the course. It will also reaffirm the basic features and characteristics of PPPs. \nThis interactive\, professional-level\, blended CP3P Preparation course can be taken from the comfort of your own home\, office or wherever you find yourself. The Preparation course is aimed at people involved in the development or implementation of PPP structures and at the beginning or implementation of PPP projects. \nYou will be guided through the online course work\, the live online workshop and some interactive quizzes. Thereafter you will get the chance to write the online certification exam. The whole system is seamlessly integrated to create the ultimate blended learning experience. \n  \nThe course consists of the following programme: \n\nPreparation Training – 4 days\nPreparation Online Exam – 2.5 hours\n\n  \nServices included: \n\n\n\nCertification Exam\nCourse Material\nOnline Interactive workshop\n\n\n\n  \nAdd to cart
URL:https://ppptrainingonline.com/event/cp3p-preparation-online-course-18-21-may-2021/
CATEGORIES:Course Calendar
ATTACH;FMTTYPE=image/jpeg:https://ppptrainingonline.com/wp-content/uploads/2021/02/preparation01-e1613050388513.jpg
ORGANIZER;CN="PPP Training Online":MAILTO:info@ppptrainingonline.com
END:VEVENT
BEGIN:VEVENT
DTSTART;TZID=Europe/Helsinki:20210511T090000
DTEND;TZID=Europe/Helsinki:20210512T150000
DTSTAMP:20260419T205256
CREATED:20210211T143425Z
LAST-MODIFIED:20210211T143425Z
UID:6356-1620723600-1620831600@ppptrainingonline.com
SUMMARY:CP3P Foundation Live Online Course 11-12 May 2021
DESCRIPTION:The CP3P Foundation course (level 1) is a blended learning course\, combining learning materials as well as an intensive two-day live online workshop. \nThe course can be taken from the comfort of your own home\, office or wherever you find yourself. This course will provide practitioners with a general overview of PPPs. It will also introduce some basic features and characteristics of PPPs. \nYou will be guided through the course work\, the live online classroom and some interactive quizzes\, whereafter you will get the chance to write the online certification exam. The whole system is seamlessly integrated to create the ultimate blended learning experience. \n  \nThe course consists of the following programme: \n\nFoundation Training – 2 days\nFoundation Online Exam – 50 minutes\n\n  \nServices included: \n\n\n\nCP3P Foundation Certificate\nInteractive live online course\nInternational Accreditation\nPPP Study Guide\nProfessional Trainer\n\n\n\n  \nAdd to cart
URL:https://ppptrainingonline.com/event/cp3p-foundation-live-online-course-11-12-may-2021/
CATEGORIES:Course Calendar
ATTACH;FMTTYPE=image/jpeg:https://ppptrainingonline.com/wp-content/uploads/2021/02/foundation01.jpg
ORGANIZER;CN="PPP Training Online":MAILTO:info@ppptrainingonline.com
END:VEVENT
BEGIN:VEVENT
DTSTART;TZID=Europe/Helsinki:20210420T090000
DTEND;TZID=Europe/Helsinki:20210423T150000
DTSTAMP:20260419T205256
CREATED:20210211T151300Z
LAST-MODIFIED:20210211T151300Z
UID:6385-1618909200-1619190000@ppptrainingonline.com
SUMMARY:CP3P Execution Online Course 20-23 April 2021
DESCRIPTION:This is a blended learning course\, combining online materials as well as a live online classroom. \nThis interactive blended CP3P Execution course can be taken from the comfort of your own home\, office or wherever you find yourself. The Execution course is ideal for individuals who are involved in the structuring & tendering of PPP projects\, and the management of PPP contracts. \nYou will be guided through the online course work\, the live online classroom and some interactive quizzes\, whereafter you will get the chance to write the online certification exam. The whole system is seamlessly integrated to create the ultimate blended learning experience. \n  \nThe course consists of the following programme: \n\nExecution Training – 4 days live online\nExecution Online Exam – 2.5 hours\n\n  \nServices included: \n\n\n\nCertification Exam\nCourse Material\nOnline Interactive workshop\n\n\n\n  \nAdd to cart
URL:https://ppptrainingonline.com/event/cp3p-execution-online-course-20-23-april-2021/
CATEGORIES:Course Calendar
ATTACH;FMTTYPE=image/jpeg:https://ppptrainingonline.com/wp-content/uploads/2021/02/execution01.jpg
ORGANIZER;CN="PPP Training Online":MAILTO:info@ppptrainingonline.com
END:VEVENT
BEGIN:VEVENT
DTSTART;TZID=Europe/Helsinki:20210413T090000
DTEND;TZID=Europe/Helsinki:20210414T150000
DTSTAMP:20260419T205256
CREATED:20210211T143205Z
LAST-MODIFIED:20210211T143205Z
UID:6353-1618304400-1618412400@ppptrainingonline.com
SUMMARY:CP3P Foundation Live Online Course 13-14 April 2021
DESCRIPTION:The CP3P Foundation course (level 1) is a blended learning course\, combining learning materials as well as an intensive two-day live online workshop. \nThe course can be taken from the comfort of your own home\, office or wherever you find yourself. This course will provide practitioners with a general overview of PPPs. It will also introduce some basic features and characteristics of PPPs. \nYou will be guided through the course work\, the live online classroom and some interactive quizzes\, whereafter you will get the chance to write the online certification exam. The whole system is seamlessly integrated to create the ultimate blended learning experience. \n  \nThe course consists of the following programme: \n\nFoundation Training – 2 days\nFoundation Online Exam – 50 minutes\n\n  \nServices included: \n\n\n\nCP3P Foundation Certificate\nInteractive live online course\nInternational Accreditation\nPPP Study Guide\nProfessional Trainer\n\n\n\n  \nAdd to cart
URL:https://ppptrainingonline.com/event/cp3p-foundation-live-online-course-13-14-april-2021/
CATEGORIES:Course Calendar
ATTACH;FMTTYPE=image/jpeg:https://ppptrainingonline.com/wp-content/uploads/2021/02/foundation01.jpg
ORGANIZER;CN="PPP Training Online":MAILTO:info@ppptrainingonline.com
END:VEVENT
BEGIN:VEVENT
DTSTART;TZID=Europe/Helsinki:20210323T090000
DTEND;TZID=Europe/Helsinki:20210326T150000
DTSTAMP:20260419T205256
CREATED:20210211T145702Z
LAST-MODIFIED:20210211T150750Z
UID:6372-1616490000-1616770800@ppptrainingonline.com
SUMMARY:CP3P Preparation Online Course 23-26 March 2021
DESCRIPTION:The CP3P Preparation Course (level 2) is a blended learning course\, combining learning materials as well as an intensive four-day live online workshop. The course will provide practitioners with an in-depth knowledge of the relevant aspects covered during the course. It will also reaffirm the basic features and characteristics of PPPs. \nThis interactive\, professional-level\, blended CP3P Preparation course can be taken from the comfort of your own home\, office or wherever you find yourself. The Preparation course is aimed at people involved in the development or implementation of PPP structures and at the beginning or implementation of PPP projects. \nYou will be guided through the online course work\, the live online workshop and some interactive quizzes. Thereafter you will get the chance to write the online certification exam. The whole system is seamlessly integrated to create the ultimate blended learning experience. \n  \nThe course consists of the following programme: \n\nPreparation Training – 4 days\nPreparation Online Exam – 2.5 hours\n\n  \nServices included: \n\n\n\nCertification Exam\nCourse Material\nOnline Interactive workshop\n\n\n\n  \nAdd to cart
URL:https://ppptrainingonline.com/event/cp3p-preparation-online-course-23-26-march-2021/
CATEGORIES:Course Calendar
ATTACH;FMTTYPE=image/jpeg:https://ppptrainingonline.com/wp-content/uploads/2021/02/preparation01-e1613050388513.jpg
ORGANIZER;CN="PPP Training Online":MAILTO:info@ppptrainingonline.com
END:VEVENT
BEGIN:VEVENT
DTSTART;TZID=Europe/Helsinki:20210316T090000
DTEND;TZID=Europe/Helsinki:20210317T150000
DTSTAMP:20260419T205256
CREATED:20210211T142934Z
LAST-MODIFIED:20210211T142934Z
UID:6349-1615885200-1615993200@ppptrainingonline.com
SUMMARY:CP3P Foundation Live Online Course 16-17 March 2021
DESCRIPTION:The CP3P Foundation course (level 1) is a blended learning course\, combining learning materials as well as an intensive two-day live online workshop. \nThe course can be taken from the comfort of your own home\, office or wherever you find yourself. This course will provide practitioners with a general overview of PPPs. It will also introduce some basic features and characteristics of PPPs. \nYou will be guided through the course work\, the live online classroom and some interactive quizzes\, whereafter you will get the chance to write the online certification exam. The whole system is seamlessly integrated to create the ultimate blended learning experience. \n  \nThe course consists of the following programme: \n\nFoundation Training – 2 days\nFoundation Online Exam – 50 minutes\n\n  \nServices included: \n\n\n\nCP3P Foundation Certificate\nInteractive live online course\nInternational Accreditation\nPPP Study Guide\nProfessional Trainer\n\n\n\n  \nAdd to cart
URL:https://ppptrainingonline.com/event/cp3p-foundation-live-online-course-16-17-march-2021/
CATEGORIES:Course Calendar
ATTACH;FMTTYPE=image/jpeg:https://ppptrainingonline.com/wp-content/uploads/2021/02/foundation01.jpg
ORGANIZER;CN="PPP Training Online":MAILTO:info@ppptrainingonline.com
END:VEVENT
BEGIN:VEVENT
DTSTART;TZID=Europe/Helsinki:20210223T090000
DTEND;TZID=Europe/Helsinki:20210224T150000
DTSTAMP:20260419T205256
CREATED:20210211T132804Z
LAST-MODIFIED:20210211T143254Z
UID:6341-1614070800-1614178800@ppptrainingonline.com
SUMMARY:CP3P Foundation Live Online Course 23-24 February 2021
DESCRIPTION:The CP3P Foundation course (level 1) is a blended learning course\, combining learning materials as well as an intensive two-day live online workshop. \nThe course can be taken from the comfort of your own home\, office or wherever you find yourself. This course will provide practitioners with a general overview of PPPs. It will also introduce some basic features and characteristics of PPPs. \nYou will be guided through the course work\, the live online classroom and some interactive quizzes\, whereafter you will get the chance to write the online certification exam. The whole system is seamlessly integrated to create the ultimate blended learning experience. \n  \nThe course consists of the following programme: \n\nFoundation Training – 2 days\nFoundation Online Exam – 50 minutes\n\n  \nServices included: \n\n\n\nCP3P Foundation Certificate\nInteractive live online course\nInternational Accreditation\nPPP Study Guide\nProfessional Trainer\n\n\n\n  \nAdd to cart
URL:https://ppptrainingonline.com/event/cp3p-foundation-live-online-course-23-24-february-2021/
CATEGORIES:Course Calendar
ATTACH;FMTTYPE=image/jpeg:https://ppptrainingonline.com/wp-content/uploads/2021/02/foundation01.jpg
ORGANIZER;CN="PPP Training Online":MAILTO:info@ppptrainingonline.com
END:VEVENT
BEGIN:VEVENT
DTSTART;TZID=Europe/Helsinki:20210216T090000
DTEND;TZID=Europe/Helsinki:20210219T150000
DTSTAMP:20260419T205256
CREATED:20210211T150743Z
LAST-MODIFIED:20210211T151128Z
UID:6382-1613466000-1613746800@ppptrainingonline.com
SUMMARY:CP3P Execution Online Course 16-19 February 2021
DESCRIPTION:This is a blended learning course\, combining online materials as well as a live online classroom. \nThis interactive blended CP3P Execution course can be taken from the comfort of your own home\, office or wherever you find yourself. The Execution course is ideal for individuals who are involved in the structuring & tendering of PPP projects\, and the management of PPP contracts. \nYou will be guided through the online course work\, the live online classroom and some interactive quizzes\, whereafter you will get the chance to write the online certification exam. The whole system is seamlessly integrated to create the ultimate blended learning experience. \n  \nThe course consists of the following programme: \n\nExecution Training – 4 days live online\nExecution Online Exam – 2.5 hours\n\n  \nServices included: \n\n\n\nCertification Exam\nCourse Material\nOnline Interactive workshop\n\n\n\n  \nAdd to cart
URL:https://ppptrainingonline.com/event/cp3p-execution-online-course-16-19-february-2021/
CATEGORIES:Course Calendar
ATTACH;FMTTYPE=image/jpeg:https://ppptrainingonline.com/wp-content/uploads/2021/02/execution01.jpg
ORGANIZER;CN="PPP Training Online":MAILTO:info@ppptrainingonline.com
END:VEVENT
END:VCALENDAR